Workbook

Sheet ORÇAMENTO
C1: PREFEITURA DE
C2: LEOBERTO LEAL
B5: OBRA: | C5: PONTE SOBRE O RIO FEIJÃO - ZONA RURAL - LEOBERTO LEAL/SC
B6: DATA BASE: | C6: SINAPI (09/2025)
C7: SICRO (07/2025)
B8: BDI (%) | C8: 0.243
A10: ITEM | B10: CÓD. | C10: DESCRIÇÃO | D10: UNID. | E10: QUANT. | F10: C.UNIT(R$) | G10: BDI (5) | H10: P. UNIT (R$) | I10: por unid. | J10: P. TOTAL (R$)
A11: 1 | C11: SERVIÇOS PRELIMINARES | J11: =J12+J13 -> 3990.98
A12: 1.1 | B12: 103689 | C12: FORNECIMENTO E INSTALAÇÃO DE PLACA DE OBRA COM CHAPA GALVANIZADA E ESTRUTURA DE MADEIRA. AF_03/2022_PS | D12: M2 | E12: 6 | F12: 463.66 | G12: =G13 -> 1.243 | H12: =ROUND(G12*F12,2) -> 576.33 | I12: 650 | J12: =ROUND(E12*H12,2) -> 3457.98
A13: 1.2 | B13: 98525 | C13: LIMPEZA MECANIZADA DE CAMADA VEGETAL, VEGETAÇÃO E PEQUENAS ÁRVORES (DIÂMETRO DE TRONCO MENOR QUE 0,20 M), COM TRATOR DE ESTEIRAS. AF_03/2024 | D13: M2 | E13: =I13 -> 650 | F13: 0.66 | G13: =1.243 -> 1.243 | H13: =ROUND(G13*F13,2) -> 0.82 | I13: 650 | J13: =ROUND(E13*H13,2) -> 533
A15: 2 | C15: TERRAPLENAGEM | J15: =SUM(J16:J24) -> 120220.7
A16: 2.1 | B16: 105564 | C16: EXECUÇÃO E COMPACTAÇÃO DE CORPO DE ATERRO (95% DE ENERGIA DO PROCTOR NORMAL) COM SOLO PREDOMINANTEMENTE ARENOSO, EM CAMADAS COM ESPESSURA DE 20 CM - EXCLUSIVE ESCAVAÇÃO, CARGA EM CAMADAS COM ESPESSURA DE 20 CM - EXCLUSIVE ESCAVAÇÃO, CARGA E | D16: M3 | E16: =I16-E17 -> 370 | F16: 6.35 | G16: =G13 -> 1.243 | H16: =ROUND(G16*F16,2) -> 7.89 | I16: 850 | J16: =ROUND(E16*H16,2) -> 2919.3
A17: 2.2 | B17: 105560 | C17: EXECUÇÃO E COMPACTAÇÃO DE CAMADA FINAL DE ATERRO (100% DE ENERGIA DO PROCTOR NORMAL) COM SOLO PREDOMINANTEMENTE ARGILOSO, EM CAMADAS COM ESPESSURA DE 20 CM - EXCLUSIVE ESCAVAÇÃO, CARGA E TRANSPORTE E SOLO. AF_09/2024 | D17: M3 | E17: =I17 -> 480 | F17: 12.89 | G17: =G16 -> 1.243 | H17: =ROUND(G17*F17,2) -> 16.02 | I17: =100*0.6*8 -> 480 | J17: =ROUND(E17*H17,2) -> 7689.6
A18: 2.3 | B18: 100978 | C18: CARGA, MANOBRA E DESCARGA DE SOLOS E MATERIAIS GRANULARES EM CAMINHÃO BASCULANTE 10 M³ - CARGA COM ESCAVADEIRA HIDRÁULICA (CAÇAMBA DE 1,20 M³ / 155 HP) E DESCARGA LIVRE (UNIDADE: M3) AF_07/2020 | D18: M3 | E18: =I18 -> 850 | F18: 7.39 | G18: =G17 -> 1.243 | H18: =ROUND(G18*F18,2) -> 9.19 | I18: =I16 -> 850 | J18: =ROUND(E18*H18,2) -> 7811.5
A19: 2.4 | B19: 93588 | C19: TRANSPORTE COM CAMINHÃO BASCULANTE DE 10 M³, EM VIA URBANA EM LEITO NATURAL (UNIDADE: M3XKM). COM CAMINHÃO BASCULANTE DE 10 M³, EM VIA URBANA EM LEITO NATURAL (UNIDADE: M3XKM). | D19: M3XKM | E19: =I19 -> 4250 | F19: 2.1 | G19: =G18 -> 1.243 | H19: =ROUND(G19*F19,2) -> 2.61 | I19: =850*5 -> 4250 | J19: =ROUND(E19*H19,2) -> 11092.5
A20: 2.5 | B20: 101266 | C20: ESCAVAÇÃO VERTICAL PARA INFRAESTRUTURA, COM CARGA, DESCARGA E TRANSPORTE DE SOLO DE 1ª CATEGORIA, COM ESCAVADEIRA HIDRÁULICA (CAÇAMBA: 0,8 M³ / 111HP), FROTA DE 3 CAMINHÕES BASCULANTES DE 10 M³, DMT ATÉ 1 KM E VELOCIDADE MÉDIA14 KM/H. AF_05/2020 | D20: M3 | E20: =I20 -> 160 | F20: 12.01 | G20: =G19 -> 1.243 | H20: =ROUND(G20*F20,2) -> 14.93 | I20: =8*5*4 -> 160 | J20: =ROUND(E20*H20,2) -> 2388.8
A21: 2.6 | B21: 100978 | C21: CARGA, MANOBRA E DESCARGA DE SOLOS E MATERIAIS GRANULARES EM CAMINHÃO BASCULANTE 10 M³ - CARGA COM ESCAVADEIRA HIDRÁULICA (CAÇAMBA DE 1,20 M³ / 155 HP) E DESCARGA LIVRE (UNIDADE: M3) AF_07/2020 | D21: M3 | E21: =I21 -> 160 | F21: 7.39 | G21: =G20 -> 1.243 | H21: =ROUND(G21*F21,2) -> 9.19 | I21: =I20 -> 160 | J21: =ROUND(E21*H21,2) -> 1470.4
A22: 2.7 | B22: 93588 | C22: TRANSPORTE COM CAMINHÃO BASCULANTE DE 10 M³, EM VIA URBANA EM LEITO NATURAL (UNIDADE: M3XKM). COM CAMINHÃO BASCULANTE DE 10 M³, EM VIA URBANA EM LEITO NATURAL (UNIDADE: M3XKM). | D22: M3XKM | E22: =I22 -> 160 | F22: 3.27 | G22: =G21 -> 1.243 | H22: =ROUND(G22*F22,2) -> 4.06 | I22: =I21 -> 160 | J22: =ROUND(E22*H22,2) -> 649.6
A23: 2.8 | B23: 92757 | C23: PROTEÇÃO SUPERFICIAL DE CANAL EM GABIÃO TIPO COLCHÃO, ALTURA DE 30 CENTÍMETROS, ENCHIMENTO COM PEDRA DE MÃO TIPO RACHÃO - FORNECIMENTO E EXECUÇÃO. AF_03/2024 | D23: m3 | E23: =20*5*2 -> 200 | F23: 336.66 | G23: 1.243 | H23: =ROUND(G23*F23,2) -> 418.47 | I23: =I22 -> 160 | J23: =ROUND(E23*H23,2) -> 83694
A24: 2.9 | B24: 105597 | C24: REGULARIZAÇÃO E COMPACTAÇÃO DE SUBLEITO DE SOLO PREDOMINANTEMENTE ARGILOSO, PARA OBRAS DE RECONSTRUÇÃO DE PAVIMENTOS. AF_09/2024 | D24: m2 | E24: 500 | F24: 4.03 | G24: =G22 -> 1.243 | H24: =ROUND(G24*F24,2) -> 5.01 | J24: =ROUND(E24*H24,2) -> 2505
A26: 3 | C26: OBRA DE ARTE ESPECIAL (PONTE) | J26: =J28+J32+J54 -> 332862.94
A28: 3.1 | C28: Infraestrutura | J28: =J29+J30 -> 27687.36
A29: 3.1.1 | B29: 103666 | C29: BATE ESTACA PARA INSTALAÇÃO DE DEFENSAS METÁLICAS (GUARD RAIL) FIXO, INCLUSIVE CAMINHÃO TOCO PBT O, INCLUSIVE CAMINHÃO TOCO PBT | D29: H | E29: =I29*8 -> 32 | F29: 138.8 | G29: =G24 -> 1.243 | H29: =ROUND(G29*F29,2) -> 172.53 | I29: 4 | J29: =ROUND(E29*H29,2) -> 5520.96
A30: 3.1.2 | B30: 100658 | C30: ESTACA PRÉ-MOLDADA DE CONCRETO CENTRIFUGADO, SEÇÃO CIRCULAR, CAPACIDADE DE 100 TONELADAS, INCLUSO EMENDA (EXCLUSIVE MOBILIZAÇÃO E DESMOBILIZAÇÃO). AF_12/2019 | D30: m | E30: =I30*8 -> 48 | F30: 371.52 | G30: =G29 -> 1.243 | H30: =ROUND(G30*F30,2) -> 461.8 | I30: 6 | J30: =ROUND(E30*H30,2) -> 22166.4
A32: 3.2 | C32: Mesoestrutura | J32: =SUM(J33:J52) -> 264740.86
A33: 3.2.1 | B33: 100343 | C33: ARMAÇÃO DE CORTINA DE CONTENÇÃO EM CONCRETO ARMADO, COM AÇO CA-50 DE 8 MM - MONTAGEM. AF_11/2024 | D33: kg | E33: =I33*2 -> 906.56 | F33: 14.76 | G33: =G30 -> 1.243 | H33: =ROUND(G33*F33,2) -> 18.35 | I33: 453.28 | J33: =ROUND(E33*H33,2) -> 16635.38
A34: 3.2.2 | B34: 100345 | C34: ARMAÇÃO DE CORTINA DE CONTENÇÃO EM CONCRETO ARMADO, COM AÇO CA-50 DE 12,5 MM - MONTAGEM. AF_11/2024 | D34: kg | E34: =I34*2 -> 738.14 | F34: 9.1 | G34: =G33 -> 1.243 | H34: =ROUND(G34*F34,2) -> 11.31 | I34: 369.07 | J34: =ROUND(E34*H34,2) -> 8348.36
A35: 3.2.3 | B35: 100346 | C35: ARMAÇÃO DE CORTINA DE CONTENÇÃO EM CONCRETO ARMADO, COM AÇO CA-50 DE 16 MM - MONTAGEM. CORTINA DE CONTENÇÃO EM CONCRETO ARMADO, COM AÇO CA-50 DE 16 MM - MONTAGEM. | D35: kg | E35: =I35*2 -> 220.18 | F35: 8.63 | G35: =G34 -> 1.243 | H35: =ROUND(G35*F35,2) -> 10.73 | I35: 110.09 | J35: =ROUND(E35*H35,2) -> 2362.53
A36: 3.2.4 | B36: 100347 | C36: ARMAÇÃO DE CORTINA DE CONTENÇÃO EM CONCRETO ARMADO, COM AÇO CA-50 DE 20 MM - MONTAGEM. AF_11/2024 | D36: kg | E36: =I36*2 -> 2537.96 | F36: 9.61 | G36: =G35 -> 1.243 | H36: =ROUND(G36*F36,2) -> 11.95 | I36: 1268.98 | J36: =ROUND(E36*H36,2) -> 30328.62
A37: 3.2.5 | B37: 100348 | C37: ARMAÇÃO DE CORTINA DE CONTENÇÃO EM CONCRETO ARMADO, COM AÇO CA-50 DE 25 MM - MONTAGEM AF_11/2024 | D37: kg | E37: =I37*2 -> 1309.4 | F37: 9.41 | G37: =G36 -> 1.243 | H37: =ROUND(G37*F37,2) -> 11.7 | I37: 654.7 | J37: =ROUND(E37*H37,2) -> 15319.98
A38: 3.2.6 | B38: 100349 | C38: CONCRETAGEM DE CORTINA DE CONTENÇÃO, ATRAVÉS DE BOMBA - LANÇAMENTO, ADENSAMENTO E ACABAMENTO. AF_11/2024 | D38: m3 | E38: =I38*2 -> 41.2 | F38: 774.67 | G38: =G37 -> 1.243 | H38: =ROUND(G38*F38,2) -> 962.91 | I38: 20.6 | J38: =ROUND(E38*H38,2) -> 39671.89
A39: 3.2.7 | B39: 100341 | C39: FABRICAÇÃO, MONTAGEM E DESMONTAGEM DE FÔRMA PARA CORTINA DE CONTENÇÃO, EM CHAPA DE MADEIRA COMPENSADA PLASTIFICADA, E = 18 MM, 10 UTILIZAÇÕES. AF_11/2024 | D39: m2 | E39: =I39*2 -> 92 | F39: 50.96 | G39: =G38 -> 1.243 | H39: =ROUND(G39*F39,2) -> 63.34 | I39: =15+31 -> 46 | J39: =ROUND(E39*H39,2) -> 5827.28
A40: 32.8 | C40: Vigas (8X)
A41: 3.2.8.1 | B41: 104916 | C41: ARMAÇÃO DE SAPATA ISOLADA, VIGA BALDRAME E SAPATA CORRIDA UTILIZANDO AÇO CA-60 DE 5 MM - DA, VIGA BALDRAME E SAPATA CORRIDA UTILIZANDO AÇO CA-60 DE 5 MM - | D41: kg | E41: =I41*8 -> 146 | F41: 16.9 | G41: =G39 -> 1.243 | H41: =ROUND(G41*F41,2) -> 21.01 | I41: 18.25 | J41: =ROUND(E41*H41,2) -> 3067.46
A42: 3.2.8.2 | B42: 104917 | C42: ARMAÇÃO DE SAPATA ISOLADA, VIGA BALDRAME E SAPATA CORRIDA UTILIZANDO AÇO CA-50 DE 6,3 MM - MONTAGEM. AF_01/2024 | D42: kg | E42: =I42*8 -> 141.12 | F42: 15.27 | G42: =G41 -> 1.243 | H42: =ROUND(G42*F42,2) -> 18.98 | I42: 17.64 | J42: =ROUND(E42*H42,2) -> 2678.46
A43: 3.2.8.3 | B43: 104918 | C43: ARMAÇÃO DE SAPATA ISOLADA, VIGA BALDRAME E SAPATA CORRIDA UTILIZANDO AÇO CA-50 DE 8 MM - MONTAGEM. AF_01/2024 | D43: kg | E43: =I43*8 -> 771.52 | F43: 13.86 | G43: =G42 -> 1.243 | H43: =ROUND(G43*F43,2) -> 17.23 | I43: 96.44 | J43: =ROUND(E43*H43,2) -> 13293.29
A44: 3.2.8.4 | B44: 104920 | C44: ARMAÇÃO DE BLOCO, SAPATA ISOLADA, VIGA BALDRAME E SAPATA CORRIDA UTILIZANDO AÇO CA-50 DE 12,5 ARMAÇÃO DE BLOCO, SAPATA ISOLADA, VIGA BALDRAME E SAPATA CORRIDA UTILIZANDO AÇO CA-50 DE 12,5MM - MONTAGEM. AF_01/2024 | D44: kg | E44: =I44*8 -> 261.36 | F44: 10.31 | G44: =G43 -> 1.243 | H44: =ROUND(G44*F44,2) -> 12.82 | I44: 32.67 | J44: =ROUND(E44*H44,2) -> 3350.64
A45: 3.2.8.5 | B45: 104921 | C45: ARMAÇÃO DE BLOCO, SAPATA ISOLADA, VIGA BALDRAME E SAPATA CORRIDA UTILIZANDO AÇO CA-50 DE 16 MM - MONTAGEM. AF_01/2024 | D45: kg | E45: =I45*8 -> 2965.36 | F45: 9.57 | G45: =G44 -> 1.243 | H45: =ROUND(G45*F45,2) -> 11.9 | I45: 370.67 | J45: =ROUND(E45*H45,2) -> 35287.78
A46: 3.2.8.6 | B46: 104297 | C46: FORNECIMENTO E INSTALAÇÃO DE CORDOALHA COM 7 FIOS, RESISTÊNCIA À TRAÇÃO DE 190 KGF/MM² E DIÂMETRO NOMINAL DE 12,7 MM, EM VIGA. AF_08/2022 | D46: kg | E46: =I46*8 -> 1556.32 | F46: 10.08 | G46: =G45 -> 1.243 | H46: =ROUND(G46*F46,2) -> 12.53 | I46: =185.39+9.15 -> 194.54 | J46: =ROUND(E46*H46,2) -> 19500.69
A47: 3.2.8.7 | B47: 4507851 | C47: BAINHA METÁLICA OVALIZADA SEÇÃO 19 X 36 MM PARA 1 CORDOALHA D = 12,7 MM - FORNECIMENTO, INSTALAÇÃO E INJEÇÃO DE NATA DE CIMENTO | D47: um | E47: =I47*8 -> 64 | F47: 23.58 | G47: =G46 -> 1.243 | H47: =ROUND(G47*F47,2) -> 29.31 | I47: 8 | J47: =ROUND(E47*H47,2) -> 1875.84
A48: 3.2.8.8 | B48: 5605956 | C48: PROTENSÃO DE TIRANTE COM 12 CORDOALHAS D = 12,7 MM AÇO CP 190 RB, COM CAPACIDADE DE 1.040 KN - INCLUSIVE ANCORAGEM E GRAUTEAMENTO DA CABEÇA | D48: um | E48: =I48*8 -> 8 | F48: 1035.35 | G48: =G47 -> 1.243 | H48: =ROUND(G48*F48,2) -> 1286.94 | I48: 1 | J48: =ROUND(E48*H48,2) -> 10295.52
A49: 3.2.8.9 | B49: 34481 | C49: CONCRETO USINADO BOMBEAVEL, CLASSE DE RESISTENCIA C45, BRITA 0 E 1, SLUMP = 100 +/- 20 MM, COM BOMBEAMENTO (DISPONIBILIZACAO DE BOMBA), SEM O LANCAMENTO (NBR 8953) | D49: m3 | E49: =I49*8 -> 24.64 | F49: 743.07 | G49: =G48 -> 1.243 | H49: =ROUND(G49*F49,2) -> 923.64 | I49: =ROUND(0.205*15,2) -> 3.08 | J49: =ROUND(E49*H49,2) -> 22758.49
A50: 3.2.8.10 | B50: 96539 | C50: FABRICAÇÃO, MONTAGEM E DESMONTAGEM DE FÔRMA PARA VIGA BALDRAME, EM CHAPA DE MADEIRA COMPENSADA RESINADA, E=17 MM, 2 UTILIZAÇÕES. AF_01/2024 | D50: m2 | E50: =I50*8 -> 394.8 | F50: =3.29*15 -> 49.35 | G50: =G49 -> 1.243 | H50: =ROUND(G50*F50,2) -> 61.34 | I50: =F50 -> 49.35 | J50: =ROUND(E50*H50,2) -> 24217.03
A51: 3.2.8.11 | B51: 307732 | C51: APARELHO DE APOIO DE NEOPRENE FRETADO PARA ESTRUTURAS PRÉ-MOLDADAS - FORNECIMENTO E INSTALAÇÃO | D51: dm3 | E51: =2.52*8 -> 20.16 | F51: 125.6 | G51: =G58 -> 1.243 | H51: =ROUND(G51*F51,2) -> 156.12 | I51: =F51 -> 125.6 | J51: =ROUND(E51*H51,2) -> 3147.38
A52: 3.2.8.12 | B52: 93287 | C52: GUINDASTE HIDRÁULICO AUTOPROPELIDO, COM LANÇA TELESCÓPICA 40 M, CAPACIDADE MÁXIMA 60 T, POTÊNCIA 260 KW - CHP DIURNO. AF_03/2016 | D52: h | E52: 16 | F52: 340.62 | G52: 1.243 | H52: =ROUND(G52*F52,2) -> 423.39 | I52: =F52 -> 340.62 | J52: =ROUND(E52*H52,2) -> 6774.24
A54: 3.3 | C54: Superestrutura | J54: =SUM(J55:J59) -> 40434.72
A55: 3.3.1 | B55: 92916 | C55: ARMAÇÃO DE ESTRUTURAS DIVERSAS DE CONCRETO ARMADO, EXCETO VIGAS, PILARES, LAJES E FUNDAÇÕES, UTILIZANDO AÇO CA-50 DE 6,3 MM - MONTAGEM. AF_06/2022 | D55: kg | E55: 247.16 | F55: 15.09 | G55: =G52 -> 1.243 | H55: =ROUND(G55*F55,2) -> 18.76 | J55: =ROUND(E55*H55,2) -> 4636.72
A56: 3.3.2 | B56: 92917 | C56: ARMAÇÃO DE ESTRUTURAS DIVERSAS DE CONCRETO ARMADO, EXCETO VIGAS, PILARES, LAJES E FUNDAÇÕES, UTILIZANDO AÇO CA-50 DE 8,0 MM - MONTAGEM. AF_06/2022 | D56: kg | E56: 519.27 | F56: 13.36 | G56: =G55 -> 1.243 | H56: =ROUND(G56*F56,2) -> 16.61 | J56: =ROUND(E56*H56,2) -> 8625.07
A57: 3.3.3 | B57: 92919 | C57: ARMAÇÃO DE ESTRUTURAS DIVERSAS DE CONCRETO ARMADO, EXCETO VIGAS, PILARES, LAJES E FUNDAÇÕES, UTILIZANDO AÇO CA-50 DE 10,0 MM - MONTAGEM. AF_06/2022 | D57: kg | E57: 457.2 | F57: 11.48 | G57: =G56 -> 1.243 | H57: =ROUND(G57*F57,2) -> 14.27 | J57: =ROUND(E57*H57,2) -> 6524.24
A58: 3.3.4 | B58: 97096 | C58: CONCRETAGEM DE RADIER, PISO DE CONCRETO OU LAJE SOBRE SOLO, FCK 30 MPA - LANÇAMENTO, ADENSAMENTO E ACABAMENTO. AF_09/2021 | D58: m3 | E58: =15*7*0.2+30*0.15*0.15 -> 21.675 | F58: 733.92 | G58: =G57 -> 1.243 | H58: =ROUND(G58*F58,2) -> 912.26 | J58: =ROUND(E58*H58,2) -> 19773.24
A59: 3.3.5 | B59: 89714 | C59: TUBO PVC, SERIE NORMAL, ESGOTO PREDIAL, DN 100 MM, FORNECIDO E INSTALADO EM RAMAL DE DESCARGA OU RAMAL DE ESGOTO SANITÁRIO. AF_08/2022 | D59: m | E59: =15*7*0.2+30*0.15*0.15 -> 21.675 | F59: 4 | G59: =G58 -> 1.243 | H59: 40.39 | J59: =ROUND(E59*H59,2) -> 875.45
A62: 4 | C62: COMPLEMENTARES | J62: =SUM(J63:J66) -> 31715.22
A63: 4.1 | B63: 34481 | C63: CONCRETO USINADO BOMBEAVEL, CLASSE DE RESISTENCIA C45, BRITA 0 E 1, SLUMP = 100 +/- 20 MM, COM BOMBEAMENTO (DISPONIBILIZACAO DE BOMBA), SEM O LANCAMENTO (NBR 8953) - pavimento | D63: m3 | E63: 10.25 | F63: 743.07 | G63: 1.2436 | H63: =ROUND(G63*F63,2) -> 924.08 | J63: =ROUND(E63*H63,2) -> 9471.82
A64: 4.2 | B64: 3713823 | C64: CONFECÇÃO DE BARREIRA SIMPLES DE CONCRETO, ARMADA, PRÉ-MOLDADA (PERFIL NEW JERSEY) - L > 3,00 M E H = 810 MM | D64: m | E64: 10.25 | F64: 200.86 | G64: =G63 -> 1.2436 | H64: =ROUND(G64*F64,2) -> 249.79 | J64: =ROUND(E64*H64,2) -> 2560.35
A65: 4.3 | B65: 3806386 | C65: GUARDA-CORPO E CORRIMÃO METÁLICO PARA PASSARELAS PARA PEDESTRES - FORNECIMENTO E INSTALAÇÃO | D65: m | E65: 10.25 | F65: 751.21 | G65: =G64 -> 1.2436 | H65: =ROUND(G65*F65,2) -> 934.2 | J65: =ROUND(E65*H65,2) -> 9575.55
A66: 4.4 | B66: 103946 | C66: PLANTIO DE GRAMA ESMERALDA OU SÃO CARLOS OU CURITIBANA, EM PLACAS. AF_07/2024 | D66: m2 | E66: 650 | F66: 12.5 | G66: =G65 -> 1.2436 | H66: =ROUND(G66*F66,2) -> 15.55 | J66: =ROUND(E66*H66,2) -> 10107.5
H68: TOTAL ORÇADO -R$ | J68: =J62+J26+J15+J11 -> 488789.84 | L68: =408000*1.2 -> 489600
L69: =408*1.2 -> 489.6

Sheet CRONOGRAMA
A1: PREFEITURA DE
A2: LEOBERTO LEAL
A4: =ORÇAMENTO!C5 -> PONTE SOBRE O RIO FEIJÃO - ZONA RURAL - LEOBERTO LEAL/SC
A6: CRONOGRAMA FÍSICO FINANCEIRO
A7: SERVIÇO | B7: VALOR (R$) | C7: PERÍODO (dias) | K7: TOTAL (R$)
C8: 15 | D8: 30 | E8: 45 | F8: 60 | G8: 75 | H8: 90 | I8: 105 | J8: 120
A9: =ORÇAMENTO!C11 -> SERVIÇOS PRELIMINARES | B9: =ORÇAMENTO!$J$11 -> 3990.98 | C9: =ROUND($B$9*C11,2) -> 3990.98 | K9: =SUM(C9:J9) -> 3990.98 | L9: =B9-K9 -> 0
C11: 1 | K11: =SUM(C11:J11) -> 1
A12: =ORÇAMENTO!$C$15 -> TERRAPLENAGEM | B12: =ORÇAMENTO!J15 -> 120220.7 | C12: =ROUND($B$12*C14,2) -> 48088.28 | D12: =ROUND($B$12*D14,2) -> 48088.28 | J12: =ROUND($B$12*J14,2) -> 24044.14 | K12: =SUM(C12:J12) -> 120220.7
C14: 0.4 | D14: 0.4 | J14: 0.2 | K14: =SUM(C14:J14) -> 1
A15: =ORÇAMENTO!$C$26 -> OBRA DE ARTE ESPECIAL (PONTE) | B15: =ORÇAMENTO!J26 -> 332862.94 | C15: =C16+C18+C21+C22 -> 0 | D15: =D16+D19+D21+D22 -> 13843.68 | E15: =E16+E19+E21+E22 -> 66792.05 | F15: =F16+F19+F21+F22 -> 66185.47 | G15: =G16+G19+G21+G22 -> 80337.62 | H15: =H16+H19+H21+H22 -> 80337.61 | I15: =I16+I19+I21+I22 -> 25367.51 | J15: =J16+J19+J21+J22 -> 0 | K15: =SUM(C15:J15) -> 332863.94
A16: =ORÇAMENTO!$C$28 -> Infraestrutura | B16: =ORÇAMENTO!J28 -> 27687.36 | C16: =ROUND($B$16*C18,2) -> 0 | D16: =ROUND($B$16*D18,2) -> 13843.68 | E16: =ROUND($B$16*E18,2) -> 13843.68 | F16: =ROUND($B$12*F18,2) -> 0 | G16: =ROUND($B$12*G18,2) -> 0 | J16: =ROUND($B$12*J18,2) -> 0 | K16: =SUM(C16:J16) -> 27687.36
D18: 0.5 | E18: 0.5 | K18: =SUM(C18:J18) -> 1
A19: =ORÇAMENTO!$C$32 -> Mesoestrutura | B19: =ORÇAMENTO!J32 -> 264740.86 | C19: =ROUND($B$19*C21,2) -> 0 | D19: =ROUND($B$19*D21,2) -> 0 | E19: =ROUND($B$19*E21,2) -> 52948.17 | F19: =ROUND($B$19*F21,2) -> 66185.22 | G19: =ROUND($B$19*G21,2) -> 66185.22 | H19: =ROUND($B$19*H21,2)-0.01 -> 66185.21 | I19: =ROUND($B$19*I21,2) -> 13237.04 | J19: =ROUND($B$19*J21,2) -> 0 | K19: =SUM(C19:J19) -> 264740.86
E21: 0.2 | F21: 0.25 | G21: 0.25 | H21: 0.25 | I21: 0.05 | K21: =SUM(C21:J21) -> 1
A22: =ORÇAMENTO!$C$54 -> Superestrutura | B22: =ORÇAMENTO!J54 -> 40434.72 | C22: =ROUND($B$22*C24,2) -> 0 | D22: =ROUND($B$22*D24,2) -> 0 | E22: =ROUND($B$22*E24,2) -> 0 | F22: =ROUND($B$22*F24,2) -> 0 | G22: =ROUND($B$22*G24,2) -> 14152.15 | H22: =ROUND($B$22*H24,2) -> 14152.15 | I22: =ROUND($B$22*I24,2) -> 12130.42 | J22: =ROUND($B$22*J24,2) -> 0 | K22: =SUM(C22:J22) -> 40434.72
G24: 0.35 | H24: 0.35 | I24: 0.3 | K24: =SUM(C24:J24) -> 1
A25: =ORÇAMENTO!$C$62 -> COMPLEMENTARES | B25: =ORÇAMENTO!J62 -> 31715.22 | C25: =ROUND($B$25*C27,2) -> 0 | D25: =ROUND($B$25*D27,2) -> 0 | E25: =ROUND($B$25*E27,2) -> 0 | F25: =ROUND($B$25*F27,2) -> 0 | G25: =ROUND($B$25*G27,2) -> 0 | H25: =ROUND($B$25*H27,2) -> 0 | I25: =ROUND($B$25*I27,2) -> 15857.61 | J25: =ROUND($B$25*J27,2) -> 15857.61 | K25: =SUM(C25:J25) -> 31715.22
I27: 0.5 | J27: 0.5 | K27: =SUM(C27:J27) -> 1
A28: TOTAL MENSAL (R$): | B28: =B9+B12+B16+B19+B22+B25 -> 488789.84 | C28: =C9+C12+C16+C19+C22+C25 -> 52079.26 | D28: =D9+D12+D16+D19+D22+D25 -> 61931.96 | E28: =E9+E12+E16+E19+E22+E25 -> 66791.85 | F28: =F9+F12+F16+F19+F22+F25 -> 66185.22 | G28: =G9+G12+G16+G19+G22+G25 -> 80337.37 | H28: =H9+H12+H16+H19+H22+H25 -> 80337.36 | I28: =I9+I12+I16+I19+I22+I25 -> 41225.07 | J28: =J9+J12+J16+J19+J22+J25 -> 39901.75 | K28: =SUM(C28:J28) -> 488789.84
A29: TOTAL MENSAL (%): | C29: =ROUND(C28/$B$28,4) -> 0.1065 | D29: =ROUND(D28/$B$28,4) -> 0.1267 | E29: =ROUND(E28/$B$28,4) -> 0.1366 | F29: =ROUND(F28/$B$28,4) -> 0.1354 | G29: =ROUND(G28/$B$28,4) -> 0.1644 | H29: =ROUND(H28/$B$28,4) -> 0.1644 | I29: =ROUND(I28/$B$28,4)+0.0001 -> 0.0844 | J29: =ROUND(J28/$B$28,4) -> 0.0816 | K29: =SUM(C29:J29) -> 1

Sheet CRONOGRAMA (2)
A1: PREFEITURA DE
A2: LEOBERTO LEAL
A4: =ORÇAMENTO!C5 -> PONTE SOBRE O RIO FEIJÃO - ZONA RURAL - LEOBERTO LEAL/SC
A6: CRONOGRAMA FÍSICO
A7: SERVIÇO | B7: VALOR (R$) | C7: PERÍODO (dias) | K7: TOTAL (R$)
C8: 15 | D8: 30 | E8: 45 | F8: 60 | G8: 75 | H8: 90 | I8: 105 | J8: 120
A9: =ORÇAMENTO!C11 -> SERVIÇOS PRELIMINARES | B9: =ORÇAMENTO!$J$11 -> 3990.98 | C9: =ROUND($B$9*C11,2) -> 3990.98 | K9: =SUM(C9:J9) -> 3990.98 | L9: =B9-K9 -> 0
C11: 1 | K11: =SUM(C11:J11) -> 1
A12: =ORÇAMENTO!$C$15 -> TERRAPLENAGEM | B12: =ORÇAMENTO!J15 -> 120220.7 | C12: =ROUND($B$12*C14,2) -> 48088.28 | D12: =ROUND($B$12*D14,2) -> 48088.28 | J12: =ROUND($B$12*J14,2) -> 24044.14 | K12: =SUM(C12:J12) -> 120220.7
C14: 0.4 | D14: 0.4 | J14: 0.2 | K14: =SUM(C14:J14) -> 1
A15: =ORÇAMENTO!$C$26 -> OBRA DE ARTE ESPECIAL (PONTE) | B15: =ORÇAMENTO!J26 -> 332862.94 | C15: =C16+C18+C21+C22 -> 0 | D15: =ROUND((D16+D19+D22)/$B$15,4) -> 0.0416 | E15: =ROUND((E16+E19+E22)/$B$15,4) -> 0.2007 | F15: =ROUND((F16+F19+F22)/$B$15,4) -> 0.1988 | G15: =ROUND((G16+G19+G22)/$B$15,4) -> 0.2414 | H15: =ROUND((H16+H19+H22)/$B$15,4) -> 0.2414 | I15: =ROUND((I16+I19+I22)/$B$15,4) -> 0.0762 | J15: =J16+J19+J21+J22 -> 0 | K15: =SUM(C15:J15) -> 1.0001
A16: =ORÇAMENTO!$C$28 -> Infraestrutura | B16: =ORÇAMENTO!J28 -> 27687.36 | C16: =ROUND($B$16*C18,2) -> 0 | D16: =ROUND($B$16*D18,2) -> 13843.68 | E16: =ROUND($B$16*E18,2) -> 13843.68 | F16: =ROUND($B$12*F18,2) -> 0 | G16: =ROUND($B$12*G18,2) -> 0 | J16: =ROUND($B$12*J18,2) -> 0 | K16: =SUM(C16:J16) -> 27687.36
D18: 0.5 | E18: 0.5 | K18: =SUM(C18:J18) -> 1
A19: =ORÇAMENTO!$C$32 -> Mesoestrutura | B19: =ORÇAMENTO!J32 -> 264740.86 | C19: =ROUND($B$19*C21,2) -> 0 | D19: =ROUND($B$19*D21,2) -> 0 | E19: =ROUND($B$19*E21,2) -> 52948.17 | F19: =ROUND($B$19*F21,2) -> 66185.22 | G19: =ROUND($B$19*G21,2) -> 66185.22 | H19: =ROUND($B$19*H21,2)-0.01 -> 66185.21 | I19: =ROUND($B$19*I21,2) -> 13237.04 | J19: =ROUND($B$19*J21,2) -> 0 | K19: =SUM(C19:J19) -> 264740.86
E21: 0.2 | F21: 0.25 | G21: 0.25 | H21: 0.25 | I21: 0.05 | K21: =SUM(C21:J21) -> 1
A22: =ORÇAMENTO!$C$54 -> Superestrutura | B22: =ORÇAMENTO!J54 -> 40434.72 | C22: =ROUND($B$22*C24,2) -> 0 | D22: =ROUND($B$22*D24,2) -> 0 | E22: =ROUND($B$22*E24,2) -> 0 | F22: =ROUND($B$22*F24,2) -> 0 | G22: =ROUND($B$22*G24,2) -> 14152.15 | H22: =ROUND($B$22*H24,2) -> 14152.15 | I22: =ROUND($B$22*I24,2) -> 12130.42 | J22: =ROUND($B$22*J24,2) -> 0 | K22: =SUM(C22:J22) -> 40434.72
G24: 0.35 | H24: 0.35 | I24: 0.3 | K24: =SUM(C24:J24) -> 1
A25: =ORÇAMENTO!$C$62 -> COMPLEMENTARES | B25: =ORÇAMENTO!J62 -> 31715.22 | C25: =ROUND($B$25*C27,2) -> 0 | D25: =ROUND($B$25*D27,2) -> 0 | E25: =ROUND($B$25*E27,2) -> 0 | F25: =ROUND($B$25*F27,2) -> 0 | G25: =ROUND($B$25*G27,2) -> 0 | H25: =ROUND($B$25*H27,2) -> 0 | I25: =ROUND($B$25*I27,2) -> 15857.61 | J25: =ROUND($B$25*J27,2) -> 15857.61 | K25: =SUM(C25:J25) -> 31715.22
I27: 0.5 | J27: 0.5 | K27: =SUM(C27:J27) -> 1
A28: TOTAL MENSAL (R$): | B28: =B9+B12+B16+B19+B22+B25 -> 488789.84 | C28: =C9+C12+C16+C19+C22+C25 -> 52079.26 | D28: =D9+D12+D16+D19+D22+D25 -> 61931.96 | E28: =E9+E12+E16+E19+E22+E25 -> 66791.85 | F28: =F9+F12+F16+F19+F22+F25 -> 66185.22 | G28: =G9+G12+G16+G19+G22+G25 -> 80337.37 | H28: =H9+H12+H16+H19+H22+H25 -> 80337.36 | I28: =I9+I12+I16+I19+I22+I25 -> 41225.07 | J28: =J9+J12+J16+J19+J22+J25 -> 39901.75 | K28: =SUM(C28:J28) -> 488789.84
A29: TOTAL MENSAL (%): | C29: =ROUND(C28/$B$28,4) -> 0.1065 | D29: =ROUND(D28/$B$28,4) -> 0.1267 | E29: =ROUND(E28/$B$28,4) -> 0.1366 | F29: =ROUND(F28/$B$28,4) -> 0.1354 | G29: =ROUND(G28/$B$28,4) -> 0.1644 | H29: =ROUND(H28/$B$28,4) -> 0.1644 | I29: =ROUND(I28/$B$28,4)+0.0001 -> 0.0844 | J29: =ROUND(J28/$B$28,4) -> 0.0816 | K29: =SUM(C29:J29) -> 1
